BEGIN:VCALENDAR
VERSION:2.0
PRODID:-//Label Z - ECPv6.15.18//NONSGML v1.0//EN
CALSCALE:GREGORIAN
METHOD:PUBLISH
X-ORIGINAL-URL:https://label-z.de
X-WR-CALDESC:Veranstaltungen für Label Z
REFRESH-INTERVAL;VALUE=DURATION:PT1H
X-Robots-Tag:noindex
X-PUBLISHED-TTL:PT1H
BEGIN:VTIMEZONE
TZID:Europe/Berlin
BEGIN:DAYLIGHT
TZOFFSETFROM:+0100
TZOFFSETTO:+0200
TZNAME:CEST
DTSTART:20240331T010000
END:DAYLIGHT
BEGIN:STANDARD
TZOFFSETFROM:+0200
TZOFFSETTO:+0100
TZNAME:CET
DTSTART:20241027T010000
END:STANDARD
BEGIN:DAYLIGHT
TZOFFSETFROM:+0100
TZOFFSETTO:+0200
TZNAME:CEST
DTSTART:20250330T010000
END:DAYLIGHT
BEGIN:STANDARD
TZOFFSETFROM:+0200
TZOFFSETTO:+0100
TZNAME:CET
DTSTART:20251026T010000
END:STANDARD
BEGIN:DAYLIGHT
TZOFFSETFROM:+0100
TZOFFSETTO:+0200
TZNAME:CEST
DTSTART:20260329T010000
END:DAYLIGHT
BEGIN:STANDARD
TZOFFSETFROM:+0200
TZOFFSETTO:+0100
TZNAME:CET
DTSTART:20261025T010000
END:STANDARD
END:VTIMEZONE
BEGIN:VEVENT
DTSTART;TZID=Europe/Berlin:20250110T000000
DTEND;TZID=Europe/Berlin:20250110T000000
DTSTAMP:20260423T071619
CREATED:20260224T172257Z
LAST-MODIFIED:20260224T172257Z
UID:1480-1736467200-1736467200@label-z.de
SUMMARY:Rockafreeze Festival
DESCRIPTION:
URL:https://label-z.de/event/rockafreeze-festival/
END:VEVENT
BEGIN:VEVENT
DTSTART;TZID=Europe/Berlin:20250131T000000
DTEND;TZID=Europe/Berlin:20250131T000000
DTSTAMP:20260423T071619
CREATED:20260224T172257Z
LAST-MODIFIED:20260224T172257Z
UID:1479-1738281600-1738281600@label-z.de
SUMMARY:Marthabräu Rock 2025
DESCRIPTION:
URL:https://label-z.de/event/marthabraeu-rock-2025/
END:VEVENT
END:VCALENDAR